BEGIN:VCALENDAR
VERSION:2.0
PRODID:-//hacksw/handcal//NONSGML v1.0//EN
CALSCALE:GREGORIAN
BEGIN:VTIMEZONE
TZID:Europe/Berlin
X-LIC-LOCATION:Europe/Berlin
BEGIN:DAYLIGHT
TZOFFSETFROM:+0100
TZOFFSETTO:+0200
TZNAME:CEST
DTSTART:19700329T020000
RRULE:FREQ=YEARLY;BYDAY=-1SU;BYMONTH=3
END:DAYLIGHT
BEGIN:STANDARD
TZOFFSETFROM:+0200
TZOFFSETTO:+0100
TZNAME:CET
DTSTART:19701025T030000
RRULE:FREQ=YEARLY;BYDAY=-1SU;BYMONTH=10
END:STANDARD
END:VTIMEZONE
BEGIN:VEVENT
DTEND;TZID=Europe/Berlin:20250808T103000
UID:69e75447a6cff
DTSTAMP:20260421T124111
LOCATION:Garten der Schule Markt Rettenbach
DESCRIPTION:Egal ob 1. oder 2. Frühstück: Müsli geht immer! Wir schnippeln für ein gesundes Frühstück gemeinsam Obst\, schichten es mit Joghurt (Milchprodukt/ pflanzliche Alternative)\, Getreideflocken und Nüssen in schöne Gläser und lassen es uns schmecken. Anschließend spielen wir draußen in der frischen Luft einige lustige Kooperationsspiele\, bevor es dem Gemüse für unseren Snack an den Kragen geht - entweder für die Lunchbox oder um gleich verputzt zu werden.\r\nAlle verwendeten Lebensmittel werden biologischen Ursprungs sein. Das Obst und Gemüse bekommen wir vom Biohof Knaus aus Mussenhausen.\r\n\r\n
URL;VALUE=URI:https://www.unser-ferienprogramm.de/markt-rettenbach/veranstaltung.php?id=275918
SUMMARY:Frühstück\, Spiele und frischer Snack
DTSTART;TZID=Europe/Berlin:20250808T080000
END:VEVENT

END:VCALENDAR
