BEGIN:VCALENDAR
VERSION:2.0
PRODID:-//hacksw/handcal//NONSGML v1.0//EN
CALSCALE:GREGORIAN
BEGIN:VTIMEZONE
TZID:Europe/Berlin
X-LIC-LOCATION:Europe/Berlin
BEGIN:DAYLIGHT
TZOFFSETFROM:+0100
TZOFFSETTO:+0200
TZNAME:CEST
DTSTART:19700329T020000
RRULE:FREQ=YEARLY;BYDAY=-1SU;BYMONTH=3
END:DAYLIGHT
BEGIN:STANDARD
TZOFFSETFROM:+0200
TZOFFSETTO:+0100
TZNAME:CET
DTSTART:19701025T030000
RRULE:FREQ=YEARLY;BYDAY=-1SU;BYMONTH=10
END:STANDARD
END:VTIMEZONE
BEGIN:VEVENT
DTEND;TZID=Europe/Berlin:20250805T110000
UID:69e73b2aba710
DTSTAMP:20260421T105402
LOCATION:Spielplatz Engetried
DESCRIPTION:Wir radeln vom Spielplatz in Engetried nach Ronsberg und weiter in Richtung Obergünzburg. Nach ausgiebigen Pausen auf dem Spielplatz\, bei den Tieren hinter Ronsberg und der Mühle Liebenthann geht es auf dem selben Weg wieder zurück (ca. 16km). 
URL;VALUE=URI:https://www.unser-ferienprogramm.de/markt-rettenbach/veranstaltung.php?id=275917
SUMMARY:Biketour 
DTSTART;TZID=Europe/Berlin:20250805T080000
END:VEVENT

END:VCALENDAR
