BEGIN:VCALENDAR
VERSION:2.0
PRODID:-//hacksw/handcal//NONSGML v1.0//EN
CALSCALE:GREGORIAN
BEGIN:VTIMEZONE
TZID:Europe/Berlin
X-LIC-LOCATION:Europe/Berlin
BEGIN:DAYLIGHT
TZOFFSETFROM:+0100
TZOFFSETTO:+0200
TZNAME:CEST
DTSTART:19700329T020000
RRULE:FREQ=YEARLY;BYDAY=-1SU;BYMONTH=3
END:DAYLIGHT
BEGIN:STANDARD
TZOFFSETFROM:+0200
TZOFFSETTO:+0100
TZNAME:CET
DTSTART:19701025T030000
RRULE:FREQ=YEARLY;BYDAY=-1SU;BYMONTH=10
END:STANDARD
END:VTIMEZONE
BEGIN:VEVENT
DTEND;TZID=Europe/Berlin:20250804T120000
UID:69e73b124b577
DTSTAMP:20260421T105338
LOCATION:Markt Rettenbach
DESCRIPTION:Wir erforschen die Biene und die Imkerei: \r\nIhr bekommt von uns erklärt\, was es über Bienen und dem Honig zu wissen gibt und was für Aufgaben der Imker dabei hat.\r\nAuf dem Programm steht natürlich auch eine Besichtigung eines Bienenvolks.\r\nWir basteln dann mit Bienenwachs (Kerzen\,......)\r\n\r\n\r\n
URL;VALUE=URI:https://www.unser-ferienprogramm.de/markt-rettenbach/veranstaltung.php?id=272513
SUMMARY:Bienen und Imkerei erkunden (Kurs 1)
DTSTART;TZID=Europe/Berlin:20250804T090000
END:VEVENT

END:VCALENDAR
