BEGIN:VCALENDAR
VERSION:2.0
PRODID:-//hacksw/handcal//NONSGML v1.0//EN
CALSCALE:GREGORIAN
BEGIN:VTIMEZONE
TZID:Europe/Berlin
X-LIC-LOCATION:Europe/Berlin
BEGIN:DAYLIGHT
TZOFFSETFROM:+0100
TZOFFSETTO:+0200
TZNAME:CEST
DTSTART:19700329T020000
RRULE:FREQ=YEARLY;BYDAY=-1SU;BYMONTH=3
END:DAYLIGHT
BEGIN:STANDARD
TZOFFSETFROM:+0200
TZOFFSETTO:+0100
TZNAME:CET
DTSTART:19701025T030000
RRULE:FREQ=YEARLY;BYDAY=-1SU;BYMONTH=10
END:STANDARD
END:VTIMEZONE
BEGIN:VEVENT
DTEND;TZID=Europe/Berlin:20250801T170000
UID:69e73ab5ef8fe
DTSTAMP:20260421T105205
LOCATION:Engetried\, Pfarrstraße 16
DESCRIPTION:In diesem Kurs wird die Schmiedearbeit vorgestellt und eine kleine Schmiedearbeit mit Anleitung hergestellt.
URL;VALUE=URI:https://www.unser-ferienprogramm.de/markt-rettenbach/veranstaltung.php?id=219840
SUMMARY:Schmiedearbeiten vorstellen und selber herstellen
DTSTART;TZID=Europe/Berlin:20250801T130000
END:VEVENT

END:VCALENDAR
