BEGIN:VCALENDAR
VERSION:2.0
PRODID:-//hacksw/handcal//NONSGML v1.0//EN
CALSCALE:GREGORIAN
BEGIN:VTIMEZONE
TZID:Europe/Berlin
X-LIC-LOCATION:Europe/Berlin
BEGIN:DAYLIGHT
TZOFFSETFROM:+0100
TZOFFSETTO:+0200
TZNAME:CEST
DTSTART:19700329T020000
RRULE:FREQ=YEARLY;BYDAY=-1SU;BYMONTH=3
END:DAYLIGHT
BEGIN:STANDARD
TZOFFSETFROM:+0200
TZOFFSETTO:+0100
TZNAME:CET
DTSTART:19701025T030000
RRULE:FREQ=YEARLY;BYDAY=-1SU;BYMONTH=10
END:STANDARD
END:VTIMEZONE
BEGIN:VEVENT
DTEND;TZID=Europe/Berlin:20250805T160000
UID:69e7544b1aaa3
DTSTAMP:20260421T124115
LOCATION:Bushaltestelle Raiffeisen Engetried
DESCRIPTION:Wir fahren gemeinsam mit dem Bus zum Wackelwald nach Bad Buchau.\r\nBei einer Führung durch den Wald werden wir erfahren\, warum die Bäume um uns herum wackeln wenn wir hüpfen. Wir kommen dem Geheimnis des "Moorpuddings" auf die Spur und können das Moortrampolin selbst ausprobieren. Eichhörnchen und Spechte begleiten uns auf unserem Weg.\r\nIm Anschluss fahren wir den kurzen Weg zur Bachritterburg mit dem Bus. Dort werden wir auf dem Spielplatz ein Picknick machen. Die Bachritterburg ist nur für Gruppen geöffnet und bietet verschiedene Programme an. Ihr wolltet schon immer mal ein Kettenhemd anziehen? Oder ein echtes Schwert halten? Mit Pfeil und Bogen oder einer Armbrust schießen? Dann seid ihr hier genau richtig! Bei dem lebendingen Rundgang durch die Burganlage werden verschiedene Themen vermittelt (u.a. mittelalterliche Kinderspielsachen\, Bekleidung\, ritterliche Ausbildung\, und wie das Leben vor ca. 700 Jahren war). \r\nWir haben für den Tag kleine Snacks dabei\, ein ausreichendes Picknick für das Mittagessen bringen die Kinder bitte selbst mit\, da es in der Nähe kein geöffnetes Kiosk gibt.
URL;VALUE=URI:https://www.unser-ferienprogramm.de/markt-rettenbach/veranstaltung.php?id=176560
SUMMARY:Ausflug nach Bad Buchau zum Wackelwald und zur Bachritterburg
DTSTART;TZID=Europe/Berlin:20250805T090000
END:VEVENT

END:VCALENDAR
