BEGIN:VCALENDAR
VERSION:2.0
PRODID:-//hacksw/handcal//NONSGML v1.0//EN
CALSCALE:GREGORIAN
BEGIN:VTIMEZONE
TZID:Europe/Berlin
X-LIC-LOCATION:Europe/Berlin
BEGIN:DAYLIGHT
TZOFFSETFROM:+0100
TZOFFSETTO:+0200
TZNAME:CEST
DTSTART:19700329T020000
RRULE:FREQ=YEARLY;BYDAY=-1SU;BYMONTH=3
END:DAYLIGHT
BEGIN:STANDARD
TZOFFSETFROM:+0200
TZOFFSETTO:+0100
TZNAME:CET
DTSTART:19701025T030000
RRULE:FREQ=YEARLY;BYDAY=-1SU;BYMONTH=10
END:STANDARD
END:VTIMEZONE
BEGIN:VEVENT
DTEND;TZID=Europe/Berlin:20250805T160000
UID:69e73b0c49f94
DTSTAMP:20260421T105332
LOCATION:Musikheim in Frechenrieden
DESCRIPTION:Lust auf ein Abenteuer voller Musik\, Spaß und Rätsel?\r\nDann mach mit bei unserer Musikschnitzeljagd!\r\nGemeinsam begeben wir uns auf eine spannende Reise durch die Welt der Klänge\, Instrumente und Lieder.\r\nAn jeder Station wartet eine neue Aufgabe auf dich.\r\n\r\nWir freuen uns auf Dich!\r\n
URL;VALUE=URI:https://www.unser-ferienprogramm.de/markt-rettenbach/veranstaltung.php?id=175079
SUMMARY:Musikschnitzeljagd - auf musikalische Schatzsuche
DTSTART;TZID=Europe/Berlin:20250805T140000
END:VEVENT

END:VCALENDAR
