BEGIN:VCALENDAR
VERSION:2.0
PRODID:-//hacksw/handcal//NONSGML v1.0//EN
CALSCALE:GREGORIAN
BEGIN:VTIMEZONE
TZID:Europe/Berlin
X-LIC-LOCATION:Europe/Berlin
BEGIN:DAYLIGHT
TZOFFSETFROM:+0100
TZOFFSETTO:+0200
TZNAME:CEST
DTSTART:19700329T020000
RRULE:FREQ=YEARLY;BYDAY=-1SU;BYMONTH=3
END:DAYLIGHT
BEGIN:STANDARD
TZOFFSETFROM:+0200
TZOFFSETTO:+0100
TZNAME:CET
DTSTART:19701025T030000
RRULE:FREQ=YEARLY;BYDAY=-1SU;BYMONTH=10
END:STANDARD
END:VTIMEZONE
BEGIN:VEVENT
DTEND;TZID=Europe/Berlin:20250802T120000
UID:69e73b15b9cb6
DTSTAMP:20260421T105341
LOCATION:Biergarten Gasthof Adler Markt Rettenbach
DESCRIPTION:Yeah\, yeah\, summer holiday! \r\nEndlich geht es in den Sommerurlaub und Eure Reise führt Euch in ein fremdes Land! Wie Du Dich in einfachen Situationen auf Englisch ausdrücken kannst\, üben wir in diesem Crash-Kurs: Dich vorstellen\, nach dem Weg fragen\, Essen bestellen\, und anderes. Der Kurs ist für Kinder\, die in der Schule bereits etwas Englisch gelernt haben (Niveau 3./4. Klasse). \r\nBring bitte Deine Fragen und Situationen mit\, in denen Du Dich gern besser auf Englisch ausdrücken möchtest.\r\n\r\n
URL;VALUE=URI:https://www.unser-ferienprogramm.de/markt-rettenbach/veranstaltung.php?id=169660
SUMMARY:Crash-Kurs „English for your holiday" -ABGESAGT-
DTSTART;TZID=Europe/Berlin:20250802T100000
END:VEVENT

END:VCALENDAR
