BEGIN:VCALENDAR
VERSION:2.0
PRODID:-//hacksw/handcal//NONSGML v1.0//EN
CALSCALE:GREGORIAN
BEGIN:VTIMEZONE
TZID:Europe/Berlin
X-LIC-LOCATION:Europe/Berlin
BEGIN:DAYLIGHT
TZOFFSETFROM:+0100
TZOFFSETTO:+0200
TZNAME:CEST
DTSTART:19700329T020000
RRULE:FREQ=YEARLY;BYDAY=-1SU;BYMONTH=3
END:DAYLIGHT
BEGIN:STANDARD
TZOFFSETFROM:+0200
TZOFFSETTO:+0100
TZNAME:CET
DTSTART:19701025T030000
RRULE:FREQ=YEARLY;BYDAY=-1SU;BYMONTH=10
END:STANDARD
END:VTIMEZONE
BEGIN:VEVENT
DTEND;TZID=Europe/Berlin:20250802T140000
UID:69e73b2d7a395
DTSTAMP:20260421T105405
LOCATION:Biergarten Gasthof Adler Markt Rettenbach
DESCRIPTION:Endlich naht der Sommerurlaub in Italien! Alle lieben die italienische Lebensart\, das gute Eis und die tolle Sprache! Damit Du Dich im Urlaub auch etwas auf Italienisch ausdrücken kannst\, erlernen wir etwas Basis-Vokabular wie Begrüßung und Verabschiedung\, Vorstellung\, Eis- und Pizza-Bestellung\, Fragen nach dem Weg zum Pool oder Strand und ähnliches. Bring bitte Deine Fragen und Situationen mit\, in denen Du Dich gern besser in Italienisch ausdrücken möchtest.\r\n\r\n
URL;VALUE=URI:https://www.unser-ferienprogramm.de/markt-rettenbach/veranstaltung.php?id=169658
SUMMARY:Crash-Kurs „Italienisch für die Reise" -ABGESAGT-
DTSTART;TZID=Europe/Berlin:20250802T120000
END:VEVENT

END:VCALENDAR
