BEGIN:VCALENDAR
VERSION:2.0
PRODID:-//hacksw/handcal//NONSGML v1.0//EN
CALSCALE:GREGORIAN
BEGIN:VTIMEZONE
TZID:Europe/Berlin
X-LIC-LOCATION:Europe/Berlin
BEGIN:DAYLIGHT
TZOFFSETFROM:+0100
TZOFFSETTO:+0200
TZNAME:CEST
DTSTART:19700329T020000
RRULE:FREQ=YEARLY;BYDAY=-1SU;BYMONTH=3
END:DAYLIGHT
BEGIN:STANDARD
TZOFFSETFROM:+0200
TZOFFSETTO:+0100
TZNAME:CET
DTSTART:19701025T030000
RRULE:FREQ=YEARLY;BYDAY=-1SU;BYMONTH=10
END:STANDARD
END:VTIMEZONE
BEGIN:VEVENT
DTEND;TZID=Europe/Berlin:20250905T180000
UID:69eb8b560184c
DTSTAMP:20260424T172510
LOCATION:Malgersdorf
DESCRIPTION:Bei einer spannenden Schnitzeljagd durchs Dorf entdeckst Du Verstecke\, löst knifflige Aufgaben und sammelst Punkte. Das Team mit der besten Spürnase gewinnt!
URL;VALUE=URI:https://www.unser-ferienprogramm.de/malgersdorf/veranstaltung.php?id=224895
SUMMARY:Ferienschnitzeljagd
DTSTART;TZID=Europe/Berlin:20250905T150000
END:VEVENT

END:VCALENDAR
