BEGIN:VCALENDAR
VERSION:2.0
PRODID:-//hacksw/handcal//NONSGML v1.0//EN
CALSCALE:GREGORIAN
BEGIN:VTIMEZONE
TZID:Europe/Berlin
X-LIC-LOCATION:Europe/Berlin
BEGIN:DAYLIGHT
TZOFFSETFROM:+0100
TZOFFSETTO:+0200
TZNAME:CEST
DTSTART:19700329T020000
RRULE:FREQ=YEARLY;BYDAY=-1SU;BYMONTH=3
END:DAYLIGHT
BEGIN:STANDARD
TZOFFSETFROM:+0200
TZOFFSETTO:+0100
TZNAME:CET
DTSTART:19701025T030000
RRULE:FREQ=YEARLY;BYDAY=-1SU;BYMONTH=10
END:STANDARD
END:VTIMEZONE
BEGIN:VEVENT
DTEND;TZID=Europe/Berlin:20250820T180000
UID:69eb8c1513afa
DTSTAMP:20260424T172821
LOCATION:Voglsam
DESCRIPTION:Begib dich auf eine Reise in das Waldesinnere und meistere verschiedene Stationen zwischen den Bäumen in luftiger Höhe. Über 1.500 m Seillänge mit 10 Parcours\, 70 Stationen und 3 Flying Fox  sorgen für Abenteuer und Spannung. Erlebe den Wald in einer völlig neuen Perspektive!
URL;VALUE=URI:https://www.unser-ferienprogramm.de/malgersdorf/veranstaltung.php?id=184464
SUMMARY:Wie ein Tarzan zwischen den Bäumen
DTSTART;TZID=Europe/Berlin:20250820T140000
END:VEVENT

END:VCALENDAR
