BEGIN:VCALENDAR
VERSION:2.0
PRODID:-//hacksw/handcal//NONSGML v1.0//EN
CALSCALE:GREGORIAN
BEGIN:VTIMEZONE
TZID:Europe/Berlin
X-LIC-LOCATION:Europe/Berlin
BEGIN:DAYLIGHT
TZOFFSETFROM:+0100
TZOFFSETTO:+0200
TZNAME:CEST
DTSTART:19700329T020000
RRULE:FREQ=YEARLY;BYDAY=-1SU;BYMONTH=3
END:DAYLIGHT
BEGIN:STANDARD
TZOFFSETFROM:+0200
TZOFFSETTO:+0100
TZNAME:CET
DTSTART:19701025T030000
RRULE:FREQ=YEARLY;BYDAY=-1SU;BYMONTH=10
END:STANDARD
END:VTIMEZONE
BEGIN:VEVENT
DTEND;TZID=Europe/Berlin:20250822T163000
UID:69eb8f1f0648b
DTSTAMP:20260424T174119
LOCATION:München
DESCRIPTION:Fahrt in die Allianz-Arena zum Bundesliga-Auftaktspiel des FC Bayern gegen RB Leipzig. Anpfiff ist um 20:30 Uhr.\r\nPreis Kinder: 30 Euro\r\nPreis Begleitperson: 55 Euro\r\nEltern sind erwünscht! Bei Kindern bis 9 Jahren ist eine Begleitperson erforderlich.
URL;VALUE=URI:https://www.unser-ferienprogramm.de/malgersdorf/veranstaltung.php?id=142814
SUMMARY:Fahrt zum Bundesligaspiel des FC Bayern
DTSTART;TZID=Europe/Berlin:20250822T163000
END:VEVENT

END:VCALENDAR
