BEGIN:VCALENDAR
VERSION:2.0
PRODID:-//hacksw/handcal//NONSGML v1.0//EN
CALSCALE:GREGORIAN
BEGIN:VTIMEZONE
TZID:Europe/Berlin
X-LIC-LOCATION:Europe/Berlin
BEGIN:DAYLIGHT
TZOFFSETFROM:+0100
TZOFFSETTO:+0200
TZNAME:CEST
DTSTART:19700329T020000
RRULE:FREQ=YEARLY;BYDAY=-1SU;BYMONTH=3
END:DAYLIGHT
BEGIN:STANDARD
TZOFFSETFROM:+0200
TZOFFSETTO:+0100
TZNAME:CET
DTSTART:19701025T030000
RRULE:FREQ=YEARLY;BYDAY=-1SU;BYMONTH=10
END:STANDARD
END:VTIMEZONE
BEGIN:VEVENT
DTEND;TZID=Europe/Berlin:20250909T190000
UID:69eb8ead9686f
DTSTAMP:20260424T173925
LOCATION:Malgersdorf\, Pfarrhof
DESCRIPTION:Wir laden euch ein\, \r\ndenn ein bisschen Party muss sein\, \r\nin unserem Landjugendheim!\r\n\r\nDich erwartet eine Discoparty mit coolen Spielen\, alkoholfreien Cocktails\, Snacks und toller Party-Musik!
URL;VALUE=URI:https://www.unser-ferienprogramm.de/malgersdorf/veranstaltung.php?id=142763
SUMMARY:Beach Hawaii Party
DTSTART;TZID=Europe/Berlin:20250909T150000
END:VEVENT

END:VCALENDAR
