BEGIN:VCALENDAR
VERSION:2.0
PRODID:-//hacksw/handcal//NONSGML v1.0//EN
CALSCALE:GREGORIAN
BEGIN:VTIMEZONE
TZID:Europe/Berlin
X-LIC-LOCATION:Europe/Berlin
BEGIN:DAYLIGHT
TZOFFSETFROM:+0100
TZOFFSETTO:+0200
TZNAME:CEST
DTSTART:19700329T020000
RRULE:FREQ=YEARLY;BYDAY=-1SU;BYMONTH=3
END:DAYLIGHT
BEGIN:STANDARD
TZOFFSETFROM:+0200
TZOFFSETTO:+0100
TZNAME:CET
DTSTART:19701025T030000
RRULE:FREQ=YEARLY;BYDAY=-1SU;BYMONTH=10
END:STANDARD
END:VTIMEZONE
BEGIN:VEVENT
DTEND;TZID=Europe/Berlin:20250831T160000
UID:69eb8e50d74c8
DTSTAMP:20260424T173752
LOCATION:Malgersdorf\, Fußballplatz
DESCRIPTION:Fußballcamp inkl. kompletter Trainingsausrüstung\, Trinkflasche\, Getränke und tägl. warmes Mittagessen\, Pokal und Abschlussüberraschungen. Tägliche Betreuung von 9:30-15:30 Uhr\, zwei Trainingseinheiten täglich.\r\n
URL;VALUE=URI:https://www.unser-ferienprogramm.de/malgersdorf/veranstaltung.php?id=141571
SUMMARY:Audi Schanzer Fußballcamp
DTSTART;TZID=Europe/Berlin:20250828T093000
END:VEVENT

END:VCALENDAR
