BEGIN:VCALENDAR
VERSION:2.0
PRODID:-//hacksw/handcal//NONSGML v1.0//EN
CALSCALE:GREGORIAN
BEGIN:VTIMEZONE
TZID:Europe/Berlin
X-LIC-LOCATION:Europe/Berlin
BEGIN:DAYLIGHT
TZOFFSETFROM:+0100
TZOFFSETTO:+0200
TZNAME:CEST
DTSTART:19700329T020000
RRULE:FREQ=YEARLY;BYDAY=-1SU;BYMONTH=3
END:DAYLIGHT
BEGIN:STANDARD
TZOFFSETFROM:+0200
TZOFFSETTO:+0100
TZNAME:CET
DTSTART:19701025T030000
RRULE:FREQ=YEARLY;BYDAY=-1SU;BYMONTH=10
END:STANDARD
END:VTIMEZONE
BEGIN:VEVENT
DTEND;TZID=Europe/Berlin:20250913T163000
UID:69eb8e5ee7238
DTSTAMP:20260424T173806
LOCATION:Malgersdorf\, Feuerwehrhaus
DESCRIPTION:Du wolltest schon immer wissen wie ein Feuerwehrmann arbeitet? Oder mit dem Feuerwehrauto mitfahren? Dann mach mit!
URL;VALUE=URI:https://www.unser-ferienprogramm.de/malgersdorf/veranstaltung.php?id=139401
SUMMARY:Ein Tag als Feuerwehrmann
DTSTART;TZID=Europe/Berlin:20250913T130000
END:VEVENT

END:VCALENDAR
