BEGIN:VCALENDAR
VERSION:2.0
PRODID:-//hacksw/handcal//NONSGML v1.0//EN
CALSCALE:GREGORIAN
BEGIN:VTIMEZONE
TZID:Europe/Berlin
X-LIC-LOCATION:Europe/Berlin
BEGIN:DAYLIGHT
TZOFFSETFROM:+0100
TZOFFSETTO:+0200
TZNAME:CEST
DTSTART:19700329T020000
RRULE:FREQ=YEARLY;BYDAY=-1SU;BYMONTH=3
END:DAYLIGHT
BEGIN:STANDARD
TZOFFSETFROM:+0200
TZOFFSETTO:+0100
TZNAME:CET
DTSTART:19701025T030000
RRULE:FREQ=YEARLY;BYDAY=-1SU;BYMONTH=10
END:STANDARD
END:VTIMEZONE
BEGIN:VEVENT
DTEND;TZID=Europe/Berlin:20260909T233000
UID:69e7a4e56e04d
DTSTAMP:20260421T182509
LOCATION:Heide Park 1\, 29614 Soltau
DESCRIPTION:Gemeinsam mit der Gemeinde Kleinostheim fahren wir in den Heidepark nach Soltau. Mit dem Reisebus starten wir morgens um 8 Uhr an der Maintalhalle im Mainaschaff. Nach einer ca. 4-5 stündigen Fahrt beziehen wir unsere Betten im Holiday Camp direkt neben dem Heidepark. Am Nachmittag des ersten Tages haben wir Zeit den Heidepark zu erkunden. Am zweiten Tag sind wir ab 10 Uhr im Park. Die Jugendlichen dürfen in Kleingruppen unterwegs sein. Um 17:30 Uhr steigen wir in den Bus und treten die Heimreise an. 
URL;VALUE=URI:https://www.unser-ferienprogramm.de/mainaschaff/veranstaltung.php?id=248423
SUMMARY:Fahrt zum Heidepark mit Übernachtung
DTSTART;TZID=Europe/Berlin:20260908T080000
END:VEVENT

END:VCALENDAR
