BEGIN:VCALENDAR
VERSION:2.0
PRODID:-//hacksw/handcal//NONSGML v1.0//EN
CALSCALE:GREGORIAN
BEGIN:VTIMEZONE
TZID:Europe/Berlin
X-LIC-LOCATION:Europe/Berlin
BEGIN:DAYLIGHT
TZOFFSETFROM:+0100
TZOFFSETTO:+0200
TZNAME:CEST
DTSTART:19700329T020000
RRULE:FREQ=YEARLY;BYDAY=-1SU;BYMONTH=3
END:DAYLIGHT
BEGIN:STANDARD
TZOFFSETFROM:+0200
TZOFFSETTO:+0100
TZNAME:CET
DTSTART:19701025T030000
RRULE:FREQ=YEARLY;BYDAY=-1SU;BYMONTH=10
END:STANDARD
END:VTIMEZONE
BEGIN:VEVENT
DTEND;TZID=Europe/Berlin:20260904T180000
UID:69e7a4d3d9709
DTSTAMP:20260421T182451
LOCATION:Niederlande
DESCRIPTION:Auch im Jahr 2026 veranstalten wir eine Jugendfreizeit. Wir fahren wieder in die Niederlande nach Zeeland. Es erwarten euch spannende und vor allem "selbstorganiserte" Tage. Das Porgramm sowie die Verpflegung wird von den Teilnehmenden selbst geplant. Sobald fest steht wer mit fährt wird es zwei Termine für Vorbereitungstreffen geben.\r\n\r\nDie Gemeinde Mainaschaff fährt im Jahr 2026 ohne "Kooperationspartnergemeinde". Gesamt gibt es Platz für 14 Jugendliche. Vier Betreuer\, unter anderem die beiden Jugendpfleger Mireia Vendrell Molla und Daniel Damm begleiten die Freizeit.
URL;VALUE=URI:https://www.unser-ferienprogramm.de/mainaschaff/veranstaltung.php?id=247967
SUMMARY:Jugendfreizeit Niederlande 2026
DTSTART;TZID=Europe/Berlin:20260828T080000
END:VEVENT

END:VCALENDAR
