BEGIN:VCALENDAR
VERSION:2.0
PRODID:-//hacksw/handcal//NONSGML v1.0//EN
CALSCALE:GREGORIAN
BEGIN:VTIMEZONE
TZID:Europe/Berlin
X-LIC-LOCATION:Europe/Berlin
BEGIN:DAYLIGHT
TZOFFSETFROM:+0100
TZOFFSETTO:+0200
TZNAME:CEST
DTSTART:19700329T020000
RRULE:FREQ=YEARLY;BYDAY=-1SU;BYMONTH=3
END:DAYLIGHT
BEGIN:STANDARD
TZOFFSETFROM:+0200
TZOFFSETTO:+0100
TZNAME:CET
DTSTART:19701025T030000
RRULE:FREQ=YEARLY;BYDAY=-1SU;BYMONTH=10
END:STANDARD
END:VTIMEZONE
BEGIN:VEVENT
DTEND;TZID=Europe/Berlin:20260824T190000
UID:69e7a4d9f23e7
DTSTAMP:20260421T182457
LOCATION:JuZ\, Pestalozzistraße 2\, 63814 Mainaschaff
DESCRIPTION:An diesen Tagen ist das JuZ für dich geöffnet. Es wird gemeinsam gespielt\, gebastelt\, gezockt\, gekocht und vieles mehr. Bringt eure Ideen mit und gestaltet die Ferien nach euren Wünschen. Das Angebot ist wie der offene Treff unter der Woche kostenlos und ohne Anmeldung.
URL;VALUE=URI:https://www.unser-ferienprogramm.de/mainaschaff/veranstaltung.php?id=247332
SUMMARY:Offener Treff / Sommerferien
DTSTART;TZID=Europe/Berlin:20260824T140000
END:VEVENT


BEGIN:VEVENT
DTEND;TZID=Europe/Berlin:20260825T190000
UID:69e7a4d9f23fc1
DTSTAMP:20260421T182457
LOCATION:JuZ\, Pestalozzistraße 2\, 63814 Mainaschaff
DESCRIPTION:An diesen Tagen ist das JuZ für dich geöffnet. Es wird gemeinsam gespielt\, gebastelt\, gezockt\, gekocht und vieles mehr. Bringt eure Ideen mit und gestaltet die Ferien nach euren Wünschen. Das Angebot ist wie der offene Treff unter der Woche kostenlos und ohne Anmeldung.
URL;VALUE=URI:https://www.unser-ferienprogramm.de/mainaschaff/veranstaltung.php?id=247332
SUMMARY:Offener Treff / Sommerferien
DTSTART;TZID=Europe/Berlin:20260825T140000
END:VEVENT

END:VCALENDAR
