BEGIN:VCALENDAR
VERSION:2.0
PRODID:-//hacksw/handcal//NONSGML v1.0//EN
CALSCALE:GREGORIAN
BEGIN:VTIMEZONE
TZID:Europe/Berlin
X-LIC-LOCATION:Europe/Berlin
BEGIN:DAYLIGHT
TZOFFSETFROM:+0100
TZOFFSETTO:+0200
TZNAME:CEST
DTSTART:19700329T020000
RRULE:FREQ=YEARLY;BYDAY=-1SU;BYMONTH=3
END:DAYLIGHT
BEGIN:STANDARD
TZOFFSETFROM:+0200
TZOFFSETTO:+0100
TZNAME:CET
DTSTART:19701025T030000
RRULE:FREQ=YEARLY;BYDAY=-1SU;BYMONTH=10
END:STANDARD
END:VTIMEZONE
BEGIN:VEVENT
DTEND;TZID=Europe/Berlin:20260218T200000
UID:69e7d5ce3789c
DTSTAMP:20260421T215350
LOCATION:JuZ\, Pestalozzistraße 2\, 63814 Mainaschaff + LaserZone\, Borsigallee 18\, 60388 Frankfurt am Main
DESCRIPTION:Wir machen einen Ausflug zur LaserZone nach Frankfurt. Dort werden wir ca. 2 Std. gemeinsame Spielzeit haben. Seid dabei und meldet euch an!
URL;VALUE=URI:https://www.unser-ferienprogramm.de/mainaschaff/veranstaltung.php?id=247326
SUMMARY:Lasertag in Frankfurt
DTSTART;TZID=Europe/Berlin:20260218T160000
END:VEVENT

END:VCALENDAR
