BEGIN:VCALENDAR
VERSION:2.0
PRODID:-//hacksw/handcal//NONSGML v1.0//EN
CALSCALE:GREGORIAN
BEGIN:VTIMEZONE
TZID:Europe/Berlin
X-LIC-LOCATION:Europe/Berlin
BEGIN:DAYLIGHT
TZOFFSETFROM:+0100
TZOFFSETTO:+0200
TZNAME:CEST
DTSTART:19700329T020000
RRULE:FREQ=YEARLY;BYDAY=-1SU;BYMONTH=3
END:DAYLIGHT
BEGIN:STANDARD
TZOFFSETFROM:+0200
TZOFFSETTO:+0100
TZNAME:CET
DTSTART:19701025T030000
RRULE:FREQ=YEARLY;BYDAY=-1SU;BYMONTH=10
END:STANDARD
END:VTIMEZONE
BEGIN:VEVENT
DTEND;TZID=Europe/Berlin:20260529T120000
UID:69e7a52905374
DTSTAMP:20260421T182617
LOCATION:Lahntours-Campingplatz Runkel\, Im Langgarten 4\, 65594 Runkel
DESCRIPTION:Wir fahren mit dem PKW nach Runkel zum Lahntours-Campingplatz . Dort schlagen wir unser Lager auf\, kochen\, machen Lagerfeuer und schalfen in großen Tippis. Am ersten und dritten Tag werden wir mit mehreren 3er Kanadier (Kanus) die Lahn erkunden. Am zweiten Tag machen wir einen Ausflug nach Limburg. Hier wird die Stadt erkundet und Lasertag gespielt. Kommt mit auf eine erlebnissreiche und abenteuerliche Tour.\r\n\r\nGeleitet werden die Kanutoruen von dem Jugendpfleger Daniel Damm welcher in 2024 eine Zertifizierung zum Kanu-Guide nach ACA Standard abgeschlossen hat. 
URL;VALUE=URI:https://www.unser-ferienprogramm.de/mainaschaff/veranstaltung.php?id=247318
SUMMARY:Kanutour / Pfingsten
DTSTART;TZID=Europe/Berlin:20260526T090000
END:VEVENT

END:VCALENDAR
