BEGIN:VCALENDAR
VERSION:2.0
PRODID:-//hacksw/handcal//NONSGML v1.0//EN
CALSCALE:GREGORIAN
BEGIN:VTIMEZONE
TZID:Europe/Berlin
X-LIC-LOCATION:Europe/Berlin
BEGIN:DAYLIGHT
TZOFFSETFROM:+0100
TZOFFSETTO:+0200
TZNAME:CEST
DTSTART:19700329T020000
RRULE:FREQ=YEARLY;BYDAY=-1SU;BYMONTH=3
END:DAYLIGHT
BEGIN:STANDARD
TZOFFSETFROM:+0200
TZOFFSETTO:+0100
TZNAME:CET
DTSTART:19701025T030000
RRULE:FREQ=YEARLY;BYDAY=-1SU;BYMONTH=10
END:STANDARD
END:VTIMEZONE
BEGIN:VEVENT
DTEND;TZID=Europe/Berlin:20260216T190000
UID:69e7e50b293bb
DTSTAMP:20260421T225851
LOCATION:JuZ\, Pestalozzistraße 2\, 63814 Mainaschaff
DESCRIPTION:Am 16.02 feiern wir wieder Fasching im JuZ. Es wird bunt dekoriert\, gespielt\, getanzt\, gebastelt und vieles mehr. Lasst euch überraschen und feiert mit uns "Oscheff Helau".
URL;VALUE=URI:https://www.unser-ferienprogramm.de/mainaschaff/veranstaltung.php?id=247310
SUMMARY:Faschingsparty im JuZ
DTSTART;TZID=Europe/Berlin:20260216T160000
END:VEVENT

END:VCALENDAR
