BEGIN:VCALENDAR
VERSION:2.0
PRODID:-//hacksw/handcal//NONSGML v1.0//EN
CALSCALE:GREGORIAN
BEGIN:VTIMEZONE
TZID:Europe/Berlin
X-LIC-LOCATION:Europe/Berlin
BEGIN:DAYLIGHT
TZOFFSETFROM:+0100
TZOFFSETTO:+0200
TZNAME:CEST
DTSTART:19700329T020000
RRULE:FREQ=YEARLY;BYDAY=-1SU;BYMONTH=3
END:DAYLIGHT
BEGIN:STANDARD
TZOFFSETFROM:+0200
TZOFFSETTO:+0100
TZNAME:CET
DTSTART:19701025T030000
RRULE:FREQ=YEARLY;BYDAY=-1SU;BYMONTH=10
END:STANDARD
END:VTIMEZONE
BEGIN:VEVENT
DTEND;TZID=Europe/Berlin:20260627T160000
UID:69e80bfe7830b
DTSTAMP:20260422T014502
LOCATION:Jugendzentrum düne4\, Dünenfährstraße 4\, 27612 Loxstedt
DESCRIPTION:Erste-Hilfe Grundlehrgang (auch für den Führerschein geeignet) \r\n\r\nDieser Kurs ist für alle kostenlos\, die für die Jugendpflege Loxstedt oder einem Mitgliedsverein des GJL ehrenamtlich aktiv sind. Für alle anderen kostet der Kurs 50€\, diese sind am Kurstag in Bar zu bezahlen. \r\n
URL;VALUE=URI:https://www.unser-ferienprogramm.de/loxstedt/veranstaltung.php?id=316827
SUMMARY:Erste-Hilfe Kurs
DTSTART;TZID=Europe/Berlin:20260627T080000
END:VEVENT

END:VCALENDAR
