BEGIN:VCALENDAR
VERSION:2.0
PRODID:-//hacksw/handcal//NONSGML v1.0//EN
CALSCALE:GREGORIAN
BEGIN:VTIMEZONE
TZID:Europe/Berlin
X-LIC-LOCATION:Europe/Berlin
BEGIN:DAYLIGHT
TZOFFSETFROM:+0100
TZOFFSETTO:+0200
TZNAME:CEST
DTSTART:19700329T020000
RRULE:FREQ=YEARLY;BYDAY=-1SU;BYMONTH=3
END:DAYLIGHT
BEGIN:STANDARD
TZOFFSETFROM:+0200
TZOFFSETTO:+0100
TZNAME:CET
DTSTART:19701025T030000
RRULE:FREQ=YEARLY;BYDAY=-1SU;BYMONTH=10
END:STANDARD
END:VTIMEZONE
BEGIN:VEVENT
DTEND;TZID=Europe/Berlin:20260321T120000
UID:69ebed2064ce9
DTSTAMP:20260425T002224
LOCATION:Limburg a.d. Lahn
DESCRIPTION:Am Samstag\, 21. März 2026 heißt es gemeinsam mit dem Dozenten Götz Müller\, Diplom-Psychologe\, Aachen:  “Entdecke die starke Heldin/den starken Helden in dir!”\r\n\r\nHabt ihr euch schon mal gefragt\, was es bedeutet\, stark zu sein\, auch wenn es mal schwierig wird? Bei dieser WissensWerkstatt erfahrt ihr\, wie ihr mutig bleiben könnt\, auch wenn das Leben euch mal herausfordert. Gemeinsam werdet ihr lernen\, wie ihr durch Misserfolge und Rückschläge stärker werden und so immer wieder aufstehen könnt - genau wie Superheldinnen und -helden! Götz Müller\, ein erfahrener Diplom-Psychologe\, erklärt auf spielerische Weise\, was Resilienz eigentlich bedeutet\, warum sie so wichtig ist und wie ihr eure innere Kraft finden könnt. Dabei geht es nicht nur ums Zuhören\, sondern auch ums Mitmachen\, Nachdenken und Lachen. Denn: Auch schwierige Zeiten kann man meistern - mit ein bisschen Wissen\, Übung und Vertrauen in sich selbst. Lasst euch überraschen!\r\n\r\nUnd das JBW freut sich ebenfalls jetzt schon auf euren Besuch!\r\n\r\nDie WissensWerkstatt findet wieder wie gewohnt im "Clubraum" der Limburger Stadthalle statt - Eingang in der Clubebene ("Thing")!
URL;VALUE=URI:https://www.unser-ferienprogramm.de/limburg/veranstaltung.php?id=306746
SUMMARY:WissensWerkstatt
DTSTART;TZID=Europe/Berlin:20260321T110000
END:VEVENT

END:VCALENDAR
