BEGIN:VCALENDAR
VERSION:2.0
PRODID:-//hacksw/handcal//NONSGML v1.0//EN
CALSCALE:GREGORIAN
BEGIN:VTIMEZONE
TZID:Europe/Berlin
X-LIC-LOCATION:Europe/Berlin
BEGIN:DAYLIGHT
TZOFFSETFROM:+0100
TZOFFSETTO:+0200
TZNAME:CEST
DTSTART:19700329T020000
RRULE:FREQ=YEARLY;BYDAY=-1SU;BYMONTH=3
END:DAYLIGHT
BEGIN:STANDARD
TZOFFSETFROM:+0200
TZOFFSETTO:+0100
TZNAME:CET
DTSTART:19701025T030000
RRULE:FREQ=YEARLY;BYDAY=-1SU;BYMONTH=10
END:STANDARD
END:VTIMEZONE
BEGIN:VEVENT
DTEND;TZID=Europe/Berlin:20260402T170000
UID:69ebb7603f114
DTSTAMP:20260424T203304
LOCATION:Treffpunkt Blumenrod\, Bodelschwingstr. 12\, 65549 Limburg
DESCRIPTION:Der Caritasverband Limburg öffnet auch im Jahr 2026 wieder seine Türen im Treffpunkt Blumenrod für Gastkinder der 1. bis 4. Klasse. In den Osterferien erwartet die Kinder ein abwechslungsreiches\, kreatives und naturverbundenes Programm rund um das Thema Frühling & Ostern.\r\n\r\nDie Kinder dürfen sich auf vielfältige Aktionen freuen – liebevoll geplant und mit viel Raum zum Entdecken\, Ausprobieren und Gestalten. Geplante Aktivitäten:\r\n\r\n- Backen von Osternestern\r\n- Spannende Schatzsuche\r\n- Bepflanzung der eigenen Hochbeete\r\n- Kulinarische & kreative Angebote\r\n- eventuell ein gemeinsamer Ausflug
URL;VALUE=URI:https://www.unser-ferienprogramm.de/limburg/veranstaltung.php?id=306288
SUMMARY:Ferienaktionen vom Treffpunkt Blumenrod
DTSTART;TZID=Europe/Berlin:20260330T130000
END:VEVENT

END:VCALENDAR
