BEGIN:VCALENDAR
VERSION:2.0
PRODID:-//hacksw/handcal//NONSGML v1.0//EN
CALSCALE:GREGORIAN
BEGIN:VTIMEZONE
TZID:Europe/Berlin
X-LIC-LOCATION:Europe/Berlin
BEGIN:DAYLIGHT
TZOFFSETFROM:+0100
TZOFFSETTO:+0200
TZNAME:CEST
DTSTART:19700329T020000
RRULE:FREQ=YEARLY;BYDAY=-1SU;BYMONTH=3
END:DAYLIGHT
BEGIN:STANDARD
TZOFFSETFROM:+0200
TZOFFSETTO:+0100
TZNAME:CET
DTSTART:19701025T030000
RRULE:FREQ=YEARLY;BYDAY=-1SU;BYMONTH=10
END:STANDARD
END:VTIMEZONE
BEGIN:VEVENT
DTEND;TZID=Europe/Berlin:20261231T180000
UID:69eb94b7cc412
DTSTAMP:20260424T180511
LOCATION:Jugendpark Limburg\, im großen Rohr 18\, 65549 Limburg
DESCRIPTION:Die Jugendarbeit der Caritas bietet an 4 Tagen in der Woche einen offenen Jugendtreff im Jugendpark an. Die Uhrzeiten sind in der Regel von 13:00 Uhr bis 18:00 Uhr. Natürlich gibt es Abweichungen bei Projekten etc. Es wird an verschiedenen Veranstaltungen mit der städtischen Jugendarbeit dort kooperiert. \r\n\r\nDas wöchentliche Angebot umfasst unter anderem:  \r\n-Täglich offenen Treff (außer Mittwoch) \r\n-wöchentliches Musik/Rap \r\n-Tischtennisplatte\, Kicker \r\n-Free WLAN\r\n-Billardtisch\r\n-Graffitiwand\r\n-Beamer\, Playsstation\, Küche\, Spiele etc. \r\n\r\nAußerdem gibt es in den Ferienzeiten aber auch auf das Jahr verteilt besondere Aktionen wie:\r\n-Aktionen in den Ferien\r\n-Jugendveranstaltungen und Events\r\n-Ausflüge\r\n\r\nDas Team im Jugendpark freut sich\, wenn ihr vorbei schaut :) 
URL;VALUE=URI:https://www.unser-ferienprogramm.de/limburg/veranstaltung.php?id=299642
SUMMARY:Offener Jugendtreff
DTSTART;TZID=Europe/Berlin:20260101T130000
END:VEVENT

END:VCALENDAR
