BEGIN:VCALENDAR
VERSION:2.0
PRODID:-//hacksw/handcal//NONSGML v1.0//EN
CALSCALE:GREGORIAN
BEGIN:VTIMEZONE
TZID:Europe/Berlin
X-LIC-LOCATION:Europe/Berlin
BEGIN:DAYLIGHT
TZOFFSETFROM:+0100
TZOFFSETTO:+0200
TZNAME:CEST
DTSTART:19700329T020000
RRULE:FREQ=YEARLY;BYDAY=-1SU;BYMONTH=3
END:DAYLIGHT
BEGIN:STANDARD
TZOFFSETFROM:+0200
TZOFFSETTO:+0100
TZNAME:CET
DTSTART:19701025T030000
RRULE:FREQ=YEARLY;BYDAY=-1SU;BYMONTH=10
END:STANDARD
END:VTIMEZONE
BEGIN:VEVENT
DTEND;TZID=Europe/Berlin:20270121T000000
UID:69eb94b8452aa
DTSTAMP:20260424T180512
LOCATION:Limburg (Jugendpark oder Ausflüge etc.) 
DESCRIPTION:Mädchentreff – Dein Raum nur für dich\r\n\r\nDer Mädchentreff ist ein offenes und regelmäßiges Angebot der Kommunalen Jugendarbeit Limburg für Mädchen und junge Frauen im Alter von 14 bis 21 Jahren. \r\nIn einer geschützten und wertschätzenden Atmosphäre bietet der Mädchentreff Raum zum Austauschen\, Ausprobieren\, Kreativsein und Entspannen. Begleitet wird das Angebot ausschließlich von einer weiblichen pädagogischen Fachkraft.\r\n\r\nIm Mittelpunkt stehen die Interessen\, Ideen und Wünsche der Mädchen und jungen Frauen. Ob gemeinsames Kochen und Backen\, kreative DIY‑Projekte\, Filme schauen\, Musik hören\, Chillen oder einfach miteinander reden – die Inhalte werden gemeinsam gestaltet. \r\nProjekte\, Aktionen sowie Ausflüge und besondere Events werden zusammen geplant\, wobei die Wünsche der Teilnehmerinnen möglichst berücksichtigt werden. Gelegentlich finden außerdem Specials oder Kooperationen mit anderen Jugendpflegen statt\, die für zusätzliche Abwechslung sorgen.\r\n\r\nDer Mädchentreff ist ein Ort der Mitbestimmung\, an dem sich die Teilnehmerinnen ausprobieren\, neue Kontakte knüpfen und gegenseitig stärken können – ganz ohne Leistungsdruck. Die regelmäßige Teilnahme am Mädchentreff ist kostenlos und es ist keine Anmeldung erforderlich.\r\nAuch bei Ausflügen\, Aktionen und Events wird nach Möglichkeit darauf geachtet\, diese kostenfrei anzubieten. Sollte dies einmal nicht möglich sein\, wird darauf geachtet\, die Kosten für die Teilnehmerinnen so gering wie möglich zu halten\, sodass jede teilnehmen kann.\r\n\r\nDer Mädchentreff findet ca.  jeden zweiten Mittwoch von 17:00 bis 20:00 Uhr im Jugendpark\, Im Großen Rohr 18\, Limburg statt. Gelegentlich werden ja nach Bedarf die Termine geändert. \r\n\r\nBei Fragen oder für weitere Informationen stehen wir selbstverständlich gerne zur Verfügung. Aktuelle Hinweise und Termine gibt es auch über Instagram (@stadtjugendpflege) oder telefonisch unter 01517 2415811.
URL;VALUE=URI:https://www.unser-ferienprogramm.de/limburg/veranstaltung.php?id=299405
SUMMARY:Mädchentreff
DTSTART;TZID=Europe/Berlin:20260114T000000
END:VEVENT

END:VCALENDAR
