BEGIN:VCALENDAR
VERSION:2.0
PRODID:-//hacksw/handcal//NONSGML v1.0//EN
CALSCALE:GREGORIAN
BEGIN:VTIMEZONE
TZID:Europe/Berlin
X-LIC-LOCATION:Europe/Berlin
BEGIN:DAYLIGHT
TZOFFSETFROM:+0100
TZOFFSETTO:+0200
TZNAME:CEST
DTSTART:19700329T020000
RRULE:FREQ=YEARLY;BYDAY=-1SU;BYMONTH=3
END:DAYLIGHT
BEGIN:STANDARD
TZOFFSETFROM:+0200
TZOFFSETTO:+0100
TZNAME:CET
DTSTART:19701025T030000
RRULE:FREQ=YEARLY;BYDAY=-1SU;BYMONTH=10
END:STANDARD
END:VTIMEZONE
BEGIN:VEVENT
DTEND;TZID=Europe/Berlin:20260425T160000
UID:69e7c29100a58
DTSTAMP:20260421T203145
LOCATION:BBS Bassgeige Raum 021
DESCRIPTION:Dieser Babysitterkurs vermittelt grundlegende Kenntnisse und praktische Fähigkeiten für die verantwortungsvolle Betreuung von Säuglingen und Kindern.
URL;VALUE=URI:https://www.unser-ferienprogramm.de/liebenburg/veranstaltung.php?id=308129
SUMMARY:Fit fürs Babysitting
DTSTART;TZID=Europe/Berlin:20260418T090000
END:VEVENT

END:VCALENDAR
