BEGIN:VCALENDAR
VERSION:2.0
PRODID:-//hacksw/handcal//NONSGML v1.0//EN
CALSCALE:GREGORIAN
BEGIN:VTIMEZONE
TZID:Europe/Berlin
X-LIC-LOCATION:Europe/Berlin
BEGIN:DAYLIGHT
TZOFFSETFROM:+0100
TZOFFSETTO:+0200
TZNAME:CEST
DTSTART:19700329T020000
RRULE:FREQ=YEARLY;BYDAY=-1SU;BYMONTH=3
END:DAYLIGHT
BEGIN:STANDARD
TZOFFSETFROM:+0200
TZOFFSETTO:+0100
TZNAME:CET
DTSTART:19701025T030000
RRULE:FREQ=YEARLY;BYDAY=-1SU;BYMONTH=10
END:STANDARD
END:VTIMEZONE
BEGIN:VEVENT
DTEND;TZID=Europe/Berlin:20260717T170000
UID:69e7c233ee001
DTSTAMP:20260421T203011
LOCATION:Freibad Liebenburg
DESCRIPTION:Der Kurs findet vom 22.06.2026 bis 17.07.2026 jeweils Montag bis Freitag 16:15 - 17:00 Uhr statt.\r\n\r\nDie Kosten belaufen sich auf 90\,- €.\r\n\r\nAbzeichen und Urkunde (8\,- €) können nach bestandener Prüfung erworben werden!\r\n\r\n
URL;VALUE=URI:https://www.unser-ferienprogramm.de/liebenburg/veranstaltung.php?id=137987
SUMMARY:Seepferdchenkurs Kurs 1
DTSTART;TZID=Europe/Berlin:20260622T161500
END:VEVENT

END:VCALENDAR
