BEGIN:VCALENDAR
VERSION:2.0
PRODID:-//hacksw/handcal//NONSGML v1.0//EN
CALSCALE:GREGORIAN
BEGIN:VTIMEZONE
TZID:Europe/Berlin
X-LIC-LOCATION:Europe/Berlin
BEGIN:DAYLIGHT
TZOFFSETFROM:+0100
TZOFFSETTO:+0200
TZNAME:CEST
DTSTART:19700329T020000
RRULE:FREQ=YEARLY;BYDAY=-1SU;BYMONTH=3
END:DAYLIGHT
BEGIN:STANDARD
TZOFFSETFROM:+0200
TZOFFSETTO:+0100
TZNAME:CET
DTSTART:19701025T030000
RRULE:FREQ=YEARLY;BYDAY=-1SU;BYMONTH=10
END:STANDARD
END:VTIMEZONE
BEGIN:VEVENT
DTEND;TZID=Europe/Berlin:20260712T120000
UID:69e7c4456258c
DTSTAMP:20260421T203901
LOCATION:Freibad Liebenburg
DESCRIPTION:Die Freibadinitiative zeltet mit Euch im Freibad! Zelte werden gestellt.\r\n\r\nPiraten gehen bei Nacht auf Schatzjagd\, spielen Werwolf am Lagerfeuer und gucken Filme.\r\n\r\nDie Kosten für das Totenkopfcamp belaufen sich auf 50\,- €.\r\n\r\nAnmeldungen per Mail direkt an:\r\n\r\nseepferdchenkurs.liebenburg@gmail.com
URL;VALUE=URI:https://www.unser-ferienprogramm.de/liebenburg/veranstaltung.php?id=137984
SUMMARY:Totenkopfcamp
DTSTART;TZID=Europe/Berlin:20260710T180000
END:VEVENT

END:VCALENDAR
