BEGIN:VCALENDAR
VERSION:2.0
PRODID:-//hacksw/handcal//NONSGML v1.0//EN
CALSCALE:GREGORIAN
BEGIN:VTIMEZONE
TZID:Europe/Berlin
X-LIC-LOCATION:Europe/Berlin
BEGIN:DAYLIGHT
TZOFFSETFROM:+0100
TZOFFSETTO:+0200
TZNAME:CEST
DTSTART:19700329T020000
RRULE:FREQ=YEARLY;BYDAY=-1SU;BYMONTH=3
END:DAYLIGHT
BEGIN:STANDARD
TZOFFSETFROM:+0200
TZOFFSETTO:+0100
TZNAME:CET
DTSTART:19701025T030000
RRULE:FREQ=YEARLY;BYDAY=-1SU;BYMONTH=10
END:STANDARD
END:VTIMEZONE
BEGIN:VEVENT
DTEND;TZID=Europe/Berlin:20260814T113000
UID:69eaa668265e7
DTSTAMP:20260424T010824
LOCATION:Leutkirch
DESCRIPTION:Nicht nur in früheren Zeiten und irgendwo\, sondern auch jetzt und hier bewohnen Kobolde die \r\nWälder. Sie sind freundliche\, friedliche Wesen und leben versteckt und in Harmonie mit der Natur.  \r\nDu lernst sie mittels einer vorgelesenen Geschichte kennen und baust im Anschluss selbst eine kleine \r\nKoboldbehausung im Wald.  Du kannst deiner Fantasie freien Lauf lassen und gleichzeitig mit den vorhandenen Materialien im Wald in Kontakt mit der Natur kommen.  
URL;VALUE=URI:https://www.unser-ferienprogramm.de/leutkirch/veranstaltung.php?id=316870
SUMMARY:Kobolde im Wald
DTSTART;TZID=Europe/Berlin:20260814T093000
END:VEVENT

END:VCALENDAR
