BEGIN:VCALENDAR
VERSION:2.0
PRODID:-//hacksw/handcal//NONSGML v1.0//EN
CALSCALE:GREGORIAN
BEGIN:VTIMEZONE
TZID:Europe/Berlin
X-LIC-LOCATION:Europe/Berlin
BEGIN:DAYLIGHT
TZOFFSETFROM:+0100
TZOFFSETTO:+0200
TZNAME:CEST
DTSTART:19700329T020000
RRULE:FREQ=YEARLY;BYDAY=-1SU;BYMONTH=3
END:DAYLIGHT
BEGIN:STANDARD
TZOFFSETFROM:+0200
TZOFFSETTO:+0100
TZNAME:CET
DTSTART:19701025T030000
RRULE:FREQ=YEARLY;BYDAY=-1SU;BYMONTH=10
END:STANDARD
END:VTIMEZONE
BEGIN:VEVENT
DTEND;TZID=Europe/Berlin:20260813T113000
UID:69eaa62f7957c
DTSTAMP:20260424T010727
LOCATION:Leutkirch
DESCRIPTION:Wir erforschen gemeinsam den faszinierenden Lebensraum Wiese! Du tauchst ein in die bunte Welt \r\nder kleinen Lebewesen\, die in der Wiese zuhause sind. Dabei entdeckst du interessante Bewohner \r\nund wirst die vielfältige Tier- und Pflanzenwelt neu kennenlernen. Lass uns gemeinsam auf \r\nEntdeckungsreise gehen! 
URL;VALUE=URI:https://www.unser-ferienprogramm.de/leutkirch/veranstaltung.php?id=316869
SUMMARY:Wer lebt auf der Wiese?
DTSTART;TZID=Europe/Berlin:20260813T093000
END:VEVENT

END:VCALENDAR
