BEGIN:VCALENDAR
VERSION:2.0
PRODID:-//hacksw/handcal//NONSGML v1.0//EN
CALSCALE:GREGORIAN
BEGIN:VTIMEZONE
TZID:Europe/Berlin
X-LIC-LOCATION:Europe/Berlin
BEGIN:DAYLIGHT
TZOFFSETFROM:+0100
TZOFFSETTO:+0200
TZNAME:CEST
DTSTART:19700329T020000
RRULE:FREQ=YEARLY;BYDAY=-1SU;BYMONTH=3
END:DAYLIGHT
BEGIN:STANDARD
TZOFFSETFROM:+0200
TZOFFSETTO:+0100
TZNAME:CET
DTSTART:19701025T030000
RRULE:FREQ=YEARLY;BYDAY=-1SU;BYMONTH=10
END:STANDARD
END:VTIMEZONE
BEGIN:VEVENT
DTEND;TZID=Europe/Berlin:20260804T140000
UID:69ea9379dd21e
DTSTAMP:20260423T234737
LOCATION:88339 Bad Waldsee 
DESCRIPTION:Habt ihr euch schon einmal gefragt\,\r\nwie Strom durch ein Kabel fließt oder warum eine Lampe leuchtet?\r\n\r\nBei dieser Sommerferienaktion könnt ihr genau das selbst herausfinden. An verschiedenen Mitmach Stationen wird gebaut\, gebastelt\, ausprobiert und experimentiert. Gemeinsam entdeckt ihr\, wie Energie funktioniert\, wo sie uns im Alltag begegnet und warum Technik ganz schön spannend sein kann.\r\n\r\nIhr baut eigene Stromkreise\, testet Materialien\, knobelt bei einem Energie Quiz und erlebt Technik aus nächster Nähe. Dabei gilt: mitmachen\, ausprobieren und Fragen stellen – ganz ohne Vorkenntnisse.\r\n\r\nDie Aktion ist altersgerecht gestaltet\, wird betreut durchgeführt und ist kostenfrei.\r\nFür Getränke und eine Verpflegung während des Tages ist gesorgt.\r\n\r\n
URL;VALUE=URI:https://www.unser-ferienprogramm.de/leutkirch/veranstaltung.php?id=314652
SUMMARY:„Energie entdecken - Zukunft gestalten"
DTSTART;TZID=Europe/Berlin:20260804T090000
END:VEVENT

END:VCALENDAR
