BEGIN:VCALENDAR
VERSION:2.0
PRODID:-//hacksw/handcal//NONSGML v1.0//EN
CALSCALE:GREGORIAN
BEGIN:VTIMEZONE
TZID:Europe/Berlin
X-LIC-LOCATION:Europe/Berlin
BEGIN:DAYLIGHT
TZOFFSETFROM:+0100
TZOFFSETTO:+0200
TZNAME:CEST
DTSTART:19700329T020000
RRULE:FREQ=YEARLY;BYDAY=-1SU;BYMONTH=3
END:DAYLIGHT
BEGIN:STANDARD
TZOFFSETFROM:+0200
TZOFFSETTO:+0100
TZNAME:CET
DTSTART:19701025T030000
RRULE:FREQ=YEARLY;BYDAY=-1SU;BYMONTH=10
END:STANDARD
END:VTIMEZONE
BEGIN:VEVENT
DTEND;TZID=Europe/Berlin:20260807T170000
UID:69eaa623604a0
DTSTAMP:20260424T010715
LOCATION:Beuren
DESCRIPTION:Heute ist Action angesagt am Badsee bei Isny. Du kannst an einem Tag das Windsurfen lernen. Nicole Bärtle von der Surfschule Badsee wird dir dabei ihre Tricks zeigen. \r\nGute Schwimmkenntnisse sind erforderlich.
URL;VALUE=URI:https://www.unser-ferienprogramm.de/leutkirch/veranstaltung.php?id=313238
SUMMARY:Windsurfen lernen 
DTSTART;TZID=Europe/Berlin:20260807T100000
END:VEVENT

END:VCALENDAR
