BEGIN:VCALENDAR
VERSION:2.0
PRODID:-//hacksw/handcal//NONSGML v1.0//EN
CALSCALE:GREGORIAN
BEGIN:VTIMEZONE
TZID:Europe/Berlin
X-LIC-LOCATION:Europe/Berlin
BEGIN:DAYLIGHT
TZOFFSETFROM:+0100
TZOFFSETTO:+0200
TZNAME:CEST
DTSTART:19700329T020000
RRULE:FREQ=YEARLY;BYDAY=-1SU;BYMONTH=3
END:DAYLIGHT
BEGIN:STANDARD
TZOFFSETFROM:+0200
TZOFFSETTO:+0100
TZNAME:CET
DTSTART:19701025T030000
RRULE:FREQ=YEARLY;BYDAY=-1SU;BYMONTH=10
END:STANDARD
END:VTIMEZONE
BEGIN:VEVENT
DTEND;TZID=Europe/Berlin:20260817T160000
UID:69eaa60f993e3
DTSTAMP:20260424T010655
LOCATION:Leutkirch
DESCRIPTION:„Schon mal eine eigene Tasse\, Müslischale oder Teller bemalt? Das kannst du bei uns. Mit Klebeband\, Stempeln oder viel Phantasie. Aus über 100 Farben kannst du auswählen. Schnell anmelden.“
URL;VALUE=URI:https://www.unser-ferienprogramm.de/leutkirch/veranstaltung.php?id=313221
SUMMARY: Paint Your Style
DTSTART;TZID=Europe/Berlin:20260817T140000
END:VEVENT

END:VCALENDAR
