BEGIN:VCALENDAR
VERSION:2.0
PRODID:-//hacksw/handcal//NONSGML v1.0//EN
CALSCALE:GREGORIAN
BEGIN:VTIMEZONE
TZID:Europe/Berlin
X-LIC-LOCATION:Europe/Berlin
BEGIN:DAYLIGHT
TZOFFSETFROM:+0100
TZOFFSETTO:+0200
TZNAME:CEST
DTSTART:19700329T020000
RRULE:FREQ=YEARLY;BYDAY=-1SU;BYMONTH=3
END:DAYLIGHT
BEGIN:STANDARD
TZOFFSETFROM:+0200
TZOFFSETTO:+0100
TZNAME:CET
DTSTART:19701025T030000
RRULE:FREQ=YEARLY;BYDAY=-1SU;BYMONTH=10
END:STANDARD
END:VTIMEZONE
BEGIN:VEVENT
DTEND;TZID=Europe/Berlin:20260806T120000
UID:69eaa668bef6a
DTSTAMP:20260424T010824
LOCATION:Historischer Sitzungssaal im Rathaus
DESCRIPTION:Demokratie\, Teilhabe\, Mitbestimmung – große Worte\, aber was bedeutet das konkret? \r\nHier machen wir es erfahrbar!\r\nAlle teilnehmenden Kinder bilden das Kinderparlament. Das Parlament hat an diesem Vormittag über ein Budget von 100 Euro zu entscheiden. Gehen wir damit alle zum Eis essen? Oder fällt uns da vielleicht noch was Besseres ein?\r\nDas Kinderparlament ist ein Angebot des Familienbündnisses Leutkirch.\r\n
URL;VALUE=URI:https://www.unser-ferienprogramm.de/leutkirch/veranstaltung.php?id=308612
SUMMARY:Kinderparlament
DTSTART;TZID=Europe/Berlin:20260806T090000
END:VEVENT

END:VCALENDAR
