BEGIN:VCALENDAR
VERSION:2.0
PRODID:-//hacksw/handcal//NONSGML v1.0//EN
CALSCALE:GREGORIAN
BEGIN:VTIMEZONE
TZID:Europe/Berlin
X-LIC-LOCATION:Europe/Berlin
BEGIN:DAYLIGHT
TZOFFSETFROM:+0100
TZOFFSETTO:+0200
TZNAME:CEST
DTSTART:19700329T020000
RRULE:FREQ=YEARLY;BYDAY=-1SU;BYMONTH=3
END:DAYLIGHT
BEGIN:STANDARD
TZOFFSETFROM:+0200
TZOFFSETTO:+0100
TZNAME:CET
DTSTART:19701025T030000
RRULE:FREQ=YEARLY;BYDAY=-1SU;BYMONTH=10
END:STANDARD
END:VTIMEZONE
BEGIN:VEVENT
DTEND;TZID=Europe/Berlin:20260806T103000
UID:69eaa66e422cc
DTSTAMP:20260424T010830
LOCATION:Leutkirch
DESCRIPTION:Auf der Allgäufinca erwartet dich ein spannender Pferdetag. Vom frechen Shetlandpony bis zum stolzen Vollblut-Araber kannst du dich mit verschiedenen Vierbeinern anfreunden und sie führen und reiten. Wichtig! Es muss eine geeignete Führperson (16 Jahre) dabei sein!\r\n\r\n
URL;VALUE=URI:https://www.unser-ferienprogramm.de/leutkirch/veranstaltung.php?id=308611
SUMMARY: Pony- und Pferdetour
DTSTART;TZID=Europe/Berlin:20260806T090000
END:VEVENT

END:VCALENDAR
