BEGIN:VCALENDAR
VERSION:2.0
PRODID:-//hacksw/handcal//NONSGML v1.0//EN
CALSCALE:GREGORIAN
BEGIN:VTIMEZONE
TZID:Europe/Berlin
X-LIC-LOCATION:Europe/Berlin
BEGIN:DAYLIGHT
TZOFFSETFROM:+0100
TZOFFSETTO:+0200
TZNAME:CEST
DTSTART:19700329T020000
RRULE:FREQ=YEARLY;BYDAY=-1SU;BYMONTH=3
END:DAYLIGHT
BEGIN:STANDARD
TZOFFSETFROM:+0200
TZOFFSETTO:+0100
TZNAME:CET
DTSTART:19701025T030000
RRULE:FREQ=YEARLY;BYDAY=-1SU;BYMONTH=10
END:STANDARD
END:VTIMEZONE
BEGIN:VEVENT
DTEND;TZID=Europe/Berlin:20260820T170000
UID:69eaa74d27885
DTSTAMP:20260424T011213
LOCATION:Leutkirch
DESCRIPTION:Willkommen im GlowLab \r\n\r\nhier wird dein Körper zum Pinsel und Licht zur Farbe!\r\nIn diesem kreativen Workshop kombinieren wir Tanz\, Bewegung und Schwarzlicht-Fotografie zu einer \r\neinzigartigen Kunstform. Mit Neonbändern\, UV-Taschenlampen und viel Fantasie erschaffen wir gemeinsam \r\nfaszinierende Lichtbilder\, die deinen Bewegungen folgen.\r\nEs geht darum\, Neues auszuprobieren\, Spaß zu haben und eigene Ideen sichtbar zu machen. Du lernst\, wie du mit Licht zeichnest\, deinen Körper als Ausdrucksmittel nutzt und kleine Kunstwerke entstehen lässt\, die wir fotografisch festhalten.
URL;VALUE=URI:https://www.unser-ferienprogramm.de/leutkirch/veranstaltung.php?id=270342
SUMMARY:GlowLab - Kunst in Bewegung
DTSTART;TZID=Europe/Berlin:20260820T140000
END:VEVENT

END:VCALENDAR
