BEGIN:VCALENDAR
VERSION:2.0
PRODID:-//hacksw/handcal//NONSGML v1.0//EN
CALSCALE:GREGORIAN
BEGIN:VTIMEZONE
TZID:Europe/Berlin
X-LIC-LOCATION:Europe/Berlin
BEGIN:DAYLIGHT
TZOFFSETFROM:+0100
TZOFFSETTO:+0200
TZNAME:CEST
DTSTART:19700329T020000
RRULE:FREQ=YEARLY;BYDAY=-1SU;BYMONTH=3
END:DAYLIGHT
BEGIN:STANDARD
TZOFFSETFROM:+0200
TZOFFSETTO:+0100
TZNAME:CET
DTSTART:19701025T030000
RRULE:FREQ=YEARLY;BYDAY=-1SU;BYMONTH=10
END:STANDARD
END:VTIMEZONE
BEGIN:VEVENT
DTEND;TZID=Europe/Berlin:20260805T120000
UID:69ea9501b17ba
DTSTAMP:20260423T235409
LOCATION:
DESCRIPTION:Gemeinsam mit dem Ranger erkunden wir das Naturschutzgebiet Moosmühle. Unterwegs entdecken wir Spannendes über den Weiher\, die Wiesen und die Wälder – und natürlich über die Tiere\, die dort leben. Besonders ein gewisses Bäume fällendes Nagetier werden wir unterwegs näher kennenlernen und wer seine Augen und Ohren offenhält\, entdeckt mit etwas Glück noch einen anderen\, ganz besonderen Bewohner. Welche Rolle die großen Tiere mit schwarzem Fell und spitzen Hörnern in diesem Gebiet spielen und wie sie sich als Naturschützer engagieren\, finden wir direkt vor Ort raus.
URL;VALUE=URI:https://www.unser-ferienprogramm.de/leutkirch/veranstaltung.php?id=247966
SUMMARY:Wasserbüffel als Naturschützer? - Auf Entdeckungstour mit dem Ranger
DTSTART;TZID=Europe/Berlin:20260805T090000
END:VEVENT

END:VCALENDAR
