BEGIN:VCALENDAR
VERSION:2.0
PRODID:-//hacksw/handcal//NONSGML v1.0//EN
CALSCALE:GREGORIAN
BEGIN:VTIMEZONE
TZID:Europe/Berlin
X-LIC-LOCATION:Europe/Berlin
BEGIN:DAYLIGHT
TZOFFSETFROM:+0100
TZOFFSETTO:+0200
TZNAME:CEST
DTSTART:19700329T020000
RRULE:FREQ=YEARLY;BYDAY=-1SU;BYMONTH=3
END:DAYLIGHT
BEGIN:STANDARD
TZOFFSETFROM:+0200
TZOFFSETTO:+0100
TZNAME:CET
DTSTART:19701025T030000
RRULE:FREQ=YEARLY;BYDAY=-1SU;BYMONTH=10
END:STANDARD
END:VTIMEZONE
BEGIN:VEVENT
DTEND;TZID=Europe/Berlin:20260804T110000
UID:69ea9501effc6
DTSTAMP:20260423T235409
LOCATION:Leutkirch
DESCRIPTION:Ich bin Egon Eichhorn und ich entdecke in dem Kinderbuch mein Zuhause\, den Wald\, ganz neu. Denn viel Müll wird einfach achtlos bei uns Tieren entsorgt. Hilf mit\, ein bisschen Acht auf meine Freunde und mich und auch die Umwelt zu geben. - Anschließend machen wir im Workshop „Papier schöpfen“ aus altem Papier neues. Alina Gries ist Kinderbuchautorin und ausgebildete Umweltbotschafterin.\r\n
URL;VALUE=URI:https://www.unser-ferienprogramm.de/leutkirch/veranstaltung.php?id=246560
SUMMARY:„Egon Eichhorn und der wilde Müll im Wald“   Mitmachlesung + Workshop 
DTSTART;TZID=Europe/Berlin:20260804T093000
END:VEVENT

END:VCALENDAR
