BEGIN:VCALENDAR
VERSION:2.0
PRODID:-//hacksw/handcal//NONSGML v1.0//EN
CALSCALE:GREGORIAN
BEGIN:VTIMEZONE
TZID:Europe/Berlin
X-LIC-LOCATION:Europe/Berlin
BEGIN:DAYLIGHT
TZOFFSETFROM:+0100
TZOFFSETTO:+0200
TZNAME:CEST
DTSTART:19700329T020000
RRULE:FREQ=YEARLY;BYDAY=-1SU;BYMONTH=3
END:DAYLIGHT
BEGIN:STANDARD
TZOFFSETFROM:+0200
TZOFFSETTO:+0100
TZNAME:CET
DTSTART:19701025T030000
RRULE:FREQ=YEARLY;BYDAY=-1SU;BYMONTH=10
END:STANDARD
END:VTIMEZONE
BEGIN:VEVENT
DTEND;TZID=Europe/Berlin:20260730T163000
UID:69ea94e73481e
DTSTAMP:20260423T235343
LOCATION:Leutkirch
DESCRIPTION:Der Jahrmarkt des Heimat- und Kinderfestes wurde sabotiert! Eure Kombinationsgabe und euer Talent für Geschicklichkeitsaufgaben sind gefragt. Schafft ihr es rechtzeitig den Strom wieder einzuschalten? Könnt Ihr verhindern\, dass die Besucher eine herbe Enttäuschung erleben?
URL;VALUE=URI:https://www.unser-ferienprogramm.de/leutkirch/veranstaltung.php?id=233887
SUMMARY:Escape Room- Rettet das Kinderfest
DTSTART;TZID=Europe/Berlin:20260730T143000
END:VEVENT

END:VCALENDAR
