BEGIN:VCALENDAR
VERSION:2.0
PRODID:-//hacksw/handcal//NONSGML v1.0//EN
CALSCALE:GREGORIAN
BEGIN:VTIMEZONE
TZID:Europe/Berlin
X-LIC-LOCATION:Europe/Berlin
BEGIN:DAYLIGHT
TZOFFSETFROM:+0100
TZOFFSETTO:+0200
TZNAME:CEST
DTSTART:19700329T020000
RRULE:FREQ=YEARLY;BYDAY=-1SU;BYMONTH=3
END:DAYLIGHT
BEGIN:STANDARD
TZOFFSETFROM:+0200
TZOFFSETTO:+0100
TZNAME:CET
DTSTART:19701025T030000
RRULE:FREQ=YEARLY;BYDAY=-1SU;BYMONTH=10
END:STANDARD
END:VTIMEZONE
BEGIN:VEVENT
DTEND;TZID=Europe/Berlin:20260801T130000
UID:69ea954ea68c2
DTSTAMP:20260423T235526
LOCATION:Leutkirch
DESCRIPTION:Hast du Lust auf Bogenschießen? \r\nZunächst üben wir auf eine Zielscheibe und danach weisen dich erfahrene Bogenschützen im Wald in die Kunst dieser alten Sportart ein. \r\nAnschließend darfst du dein Schützenglück selbst versuchen.\r\n\r\n\r\n
URL;VALUE=URI:https://www.unser-ferienprogramm.de/leutkirch/veranstaltung.php?id=224172
SUMMARY:Bogen schießen
DTSTART;TZID=Europe/Berlin:20260801T100000
END:VEVENT

END:VCALENDAR
