BEGIN:VCALENDAR
VERSION:2.0
PRODID:-//hacksw/handcal//NONSGML v1.0//EN
CALSCALE:GREGORIAN
BEGIN:VTIMEZONE
TZID:Europe/Berlin
X-LIC-LOCATION:Europe/Berlin
BEGIN:DAYLIGHT
TZOFFSETFROM:+0100
TZOFFSETTO:+0200
TZNAME:CEST
DTSTART:19700329T020000
RRULE:FREQ=YEARLY;BYDAY=-1SU;BYMONTH=3
END:DAYLIGHT
BEGIN:STANDARD
TZOFFSETFROM:+0200
TZOFFSETTO:+0100
TZNAME:CET
DTSTART:19701025T030000
RRULE:FREQ=YEARLY;BYDAY=-1SU;BYMONTH=10
END:STANDARD
END:VTIMEZONE
BEGIN:VEVENT
DTEND;TZID=Europe/Berlin:20260807T103000
UID:69eaa7589e346
DTSTAMP:20260424T011224
LOCATION:Leutkirch
DESCRIPTION:Kreatives Tanzen mit dem Hula Hoop macht nicht nur riesigen Spaß\, sondern fördert ganz nebenbei auch Körpergefühl\, Koordination und Geschicklichkeit.\r\nIn diesem Workshop lernen die Kinder spielerisch den Umgang mit dem Reifen\, üben erste Grundtechniken und entdecken einfache Tricks – am Körper und in der Luft.\r\nDer Workshop wird geleitet von Hula-Hoop-Tanztrainerin Natascha Herter\, die mit viel Freude und Erfahrung kindgerecht vermittelt\, wie viel Spaß Bewegung mit dem Reifen machen kann.\r\n\r\nHinweis: Eigene Hula-Hoop-Reifen dürfen gerne mitgebracht werden\, es stehen jedoch auch ausreichend Reifen zur Verfügung.\r\n\r\n\r\n\r\n
URL;VALUE=URI:https://www.unser-ferienprogramm.de/leutkirch/veranstaltung.php?id=223566
SUMMARY:Hula Hoop - Gestalte deinen eigenen Hula-Hoop
DTSTART;TZID=Europe/Berlin:20260807T083000
END:VEVENT

END:VCALENDAR
