BEGIN:VCALENDAR
VERSION:2.0
PRODID:-//hacksw/handcal//NONSGML v1.0//EN
CALSCALE:GREGORIAN
BEGIN:VTIMEZONE
TZID:Europe/Berlin
X-LIC-LOCATION:Europe/Berlin
BEGIN:DAYLIGHT
TZOFFSETFROM:+0100
TZOFFSETTO:+0200
TZNAME:CEST
DTSTART:19700329T020000
RRULE:FREQ=YEARLY;BYDAY=-1SU;BYMONTH=3
END:DAYLIGHT
BEGIN:STANDARD
TZOFFSETFROM:+0200
TZOFFSETTO:+0100
TZNAME:CET
DTSTART:19701025T030000
RRULE:FREQ=YEARLY;BYDAY=-1SU;BYMONTH=10
END:STANDARD
END:VTIMEZONE
BEGIN:VEVENT
DTEND;TZID=Europe/Berlin:20260814T180000
UID:69eaa7594f3d6
DTSTAMP:20260424T011225
LOCATION:Leutkirch
DESCRIPTION:Ultimate Frisbee ist ein kontaktloser Teamsport aus den USA und wird auf dem Rasen gespielt. Es beinhaltet Elemente aus dem Fußball und Rugby.\r\nDu hast Spaß an Bewegung und möchtest lernen wie man eine Frisbee Scheibe sicher und cool werfen und fangen kann? Dann komm vorbei.
URL;VALUE=URI:https://www.unser-ferienprogramm.de/leutkirch/veranstaltung.php?id=222884
SUMMARY:Ultimate Frisbee
DTSTART;TZID=Europe/Berlin:20260814T150000
END:VEVENT

END:VCALENDAR
