BEGIN:VCALENDAR
VERSION:2.0
PRODID:-//hacksw/handcal//NONSGML v1.0//EN
CALSCALE:GREGORIAN
BEGIN:VTIMEZONE
TZID:Europe/Berlin
X-LIC-LOCATION:Europe/Berlin
BEGIN:DAYLIGHT
TZOFFSETFROM:+0100
TZOFFSETTO:+0200
TZNAME:CEST
DTSTART:19700329T020000
RRULE:FREQ=YEARLY;BYDAY=-1SU;BYMONTH=3
END:DAYLIGHT
BEGIN:STANDARD
TZOFFSETFROM:+0200
TZOFFSETTO:+0100
TZNAME:CET
DTSTART:19701025T030000
RRULE:FREQ=YEARLY;BYDAY=-1SU;BYMONTH=10
END:STANDARD
END:VTIMEZONE
BEGIN:VEVENT
DTEND;TZID=Europe/Berlin:20260807T163000
UID:69eaa63013508
DTSTAMP:20260424T010728
LOCATION:Leutkrich 
DESCRIPTION:In diesem Kurs könnt ihr Lernen\, Kleinkramfresser selber zu filzen. Die Kleinkramfresser lassen wir durch eine Technik im Nassfilzen entstehen. Hierbei entsteht ein Hohlraum\, in dem Ihr allerlei Kleinigkeiten\, Süßigkeiten\, Murmeln\, Labello's und Haargummis aufbewahren könnt. Es ist für Anfänger wie für Fortgeschrittene gut geeignet. Material wird von der Dozentin gestellt. Dazu braucht Ihr ein Backblech\, Geschirrtuch\, Handtuch und eine Plastiktüte. Auf ein kreatives Gestalten freue ich mich\, Trinken / Obst nicht vergessen.\r\n
URL;VALUE=URI:https://www.unser-ferienprogramm.de/leutkirch/veranstaltung.php?id=209252
SUMMARY:Filzwerkstatt
DTSTART;TZID=Europe/Berlin:20260807T133000
END:VEVENT

END:VCALENDAR
