BEGIN:VCALENDAR
VERSION:2.0
PRODID:-//hacksw/handcal//NONSGML v1.0//EN
CALSCALE:GREGORIAN
BEGIN:VTIMEZONE
TZID:Europe/Berlin
X-LIC-LOCATION:Europe/Berlin
BEGIN:DAYLIGHT
TZOFFSETFROM:+0100
TZOFFSETTO:+0200
TZNAME:CEST
DTSTART:19700329T020000
RRULE:FREQ=YEARLY;BYDAY=-1SU;BYMONTH=3
END:DAYLIGHT
BEGIN:STANDARD
TZOFFSETFROM:+0200
TZOFFSETTO:+0100
TZNAME:CET
DTSTART:19701025T030000
RRULE:FREQ=YEARLY;BYDAY=-1SU;BYMONTH=10
END:STANDARD
END:VTIMEZONE
BEGIN:VEVENT
DTEND;TZID=Europe/Berlin:20260812T151500
UID:69eaa73e8a6d7
DTSTAMP:20260424T011158
LOCATION:Leutkrich
DESCRIPTION:Die Kinder schlüpfen in die Rolle von Detektiven und lösen gemeinsam einen spannenden „Banküberfall“ in der Hauptstelle Leutkirch. Sie suchen Hinweise\, verfolgen Spuren und knacken Rätsel\, um den Fall zu lösen. Dabei entdecken sie spielerisch die Welt der Bank\, werfen einen Blick in den Tresorraum und erfahren\, wie Sicherheit in der Bank funktioniert.
URL;VALUE=URI:https://www.unser-ferienprogramm.de/leutkirch/veranstaltung.php?id=200833
SUMMARY:Detektiv-Abenteuer in der Bank 
DTSTART;TZID=Europe/Berlin:20260812T140000
END:VEVENT

END:VCALENDAR
