BEGIN:VCALENDAR
VERSION:2.0
PRODID:-//hacksw/handcal//NONSGML v1.0//EN
CALSCALE:GREGORIAN
BEGIN:VTIMEZONE
TZID:Europe/Berlin
X-LIC-LOCATION:Europe/Berlin
BEGIN:DAYLIGHT
TZOFFSETFROM:+0100
TZOFFSETTO:+0200
TZNAME:CEST
DTSTART:19700329T020000
RRULE:FREQ=YEARLY;BYDAY=-1SU;BYMONTH=3
END:DAYLIGHT
BEGIN:STANDARD
TZOFFSETFROM:+0200
TZOFFSETTO:+0100
TZNAME:CET
DTSTART:19701025T030000
RRULE:FREQ=YEARLY;BYDAY=-1SU;BYMONTH=10
END:STANDARD
END:VTIMEZONE
BEGIN:VEVENT
DTEND;TZID=Europe/Berlin:20260801T120000
UID:69ea9653d3541
DTSTAMP:20260423T235947
LOCATION:Leutkirch
DESCRIPTION:Die Feuerwehr Leutkirch und das Rotes Kreuz laden dich zu einem spannenden Blaulichttag ein. Du darfst die Einsatzfahrzeuge ansehen\, mitfahren\, mit der Feuerwehrleiter in die luftige Höhe steigen und du kannst an vielen spannenden Stationen mitmachen.
URL;VALUE=URI:https://www.unser-ferienprogramm.de/leutkirch/veranstaltung.php?id=200295
SUMMARY:Blaulichttag mit DRK und der Feuerwehr
DTSTART;TZID=Europe/Berlin:20260801T100000
END:VEVENT

END:VCALENDAR
