BEGIN:VCALENDAR
VERSION:2.0
PRODID:-//hacksw/handcal//NONSGML v1.0//EN
CALSCALE:GREGORIAN
BEGIN:VTIMEZONE
TZID:Europe/Berlin
X-LIC-LOCATION:Europe/Berlin
BEGIN:DAYLIGHT
TZOFFSETFROM:+0100
TZOFFSETTO:+0200
TZNAME:CEST
DTSTART:19700329T020000
RRULE:FREQ=YEARLY;BYDAY=-1SU;BYMONTH=3
END:DAYLIGHT
BEGIN:STANDARD
TZOFFSETFROM:+0200
TZOFFSETTO:+0100
TZNAME:CET
DTSTART:19701025T030000
RRULE:FREQ=YEARLY;BYDAY=-1SU;BYMONTH=10
END:STANDARD
END:VTIMEZONE
BEGIN:VEVENT
DTEND;TZID=Europe/Berlin:20260817T120000
UID:69eaa74e9a0bc
DTSTAMP:20260424T011214
LOCATION:Leutkirch
DESCRIPTION:Lust auf Abenteuer? Heute lernen wir gemeinsam den Wald und seine Bewohner kennen. Bei spannenden Spielen erfahren wir\, wie Bäume leben und welche Tiere und Pflanzen im Leutkircher Stadtwald ihr Zuhause haben. Passt gut auf und hört genau hin- wer weiß\, was sich hinter den Gräsern und Bäumen so alles versteckt.
URL;VALUE=URI:https://www.unser-ferienprogramm.de/leutkirch/veranstaltung.php?id=199842
SUMMARY:Waldabenteuer - Mit dem Ranger im Wald
DTSTART;TZID=Europe/Berlin:20260817T090000
END:VEVENT

END:VCALENDAR
