BEGIN:VCALENDAR
VERSION:2.0
PRODID:-//hacksw/handcal//NONSGML v1.0//EN
CALSCALE:GREGORIAN
BEGIN:VTIMEZONE
TZID:Europe/Berlin
X-LIC-LOCATION:Europe/Berlin
BEGIN:DAYLIGHT
TZOFFSETFROM:+0100
TZOFFSETTO:+0200
TZNAME:CEST
DTSTART:19700329T020000
RRULE:FREQ=YEARLY;BYDAY=-1SU;BYMONTH=3
END:DAYLIGHT
BEGIN:STANDARD
TZOFFSETFROM:+0200
TZOFFSETTO:+0100
TZNAME:CET
DTSTART:19701025T030000
RRULE:FREQ=YEARLY;BYDAY=-1SU;BYMONTH=10
END:STANDARD
END:VTIMEZONE
BEGIN:VEVENT
DTEND;TZID=Europe/Berlin:20260731T220000
UID:69ea9500990c6
DTSTAMP:20260423T235408
LOCATION:Leutkirch
DESCRIPTION:Du erfährst zuerst Interessantes über die Tiere im Wald. Danach gehst du mit den Jägern auf die Pirsch. Was es wohl alles im Wald zu entdecken gibt? Du solltest möglichst unauffällige Kleidung und keine Reflektoren an deiner Kleidung tragen. 
URL;VALUE=URI:https://www.unser-ferienprogramm.de/leutkirch/veranstaltung.php?id=199774
SUMMARY:Mit dem Jäger auf Ansitz
DTSTART;TZID=Europe/Berlin:20260731T170000
END:VEVENT

END:VCALENDAR
