BEGIN:VCALENDAR
VERSION:2.0
PRODID:-//hacksw/handcal//NONSGML v1.0//EN
CALSCALE:GREGORIAN
BEGIN:VTIMEZONE
TZID:Europe/Berlin
X-LIC-LOCATION:Europe/Berlin
BEGIN:DAYLIGHT
TZOFFSETFROM:+0100
TZOFFSETTO:+0200
TZNAME:CEST
DTSTART:19700329T020000
RRULE:FREQ=YEARLY;BYDAY=-1SU;BYMONTH=3
END:DAYLIGHT
BEGIN:STANDARD
TZOFFSETFROM:+0200
TZOFFSETTO:+0100
TZNAME:CET
DTSTART:19701025T030000
RRULE:FREQ=YEARLY;BYDAY=-1SU;BYMONTH=10
END:STANDARD
END:VTIMEZONE
BEGIN:VEVENT
DTEND;TZID=Europe/Berlin:20260730T123000
UID:69eaa6f9c91df
DTSTAMP:20260424T011049
LOCATION:Leutkirch
DESCRIPTION:Hier versuchen wir uns im Nassfilzen an Filzbällen oder Regenbogensteine\, die für Anfänger wie für Fortgeschrittene gleichermaßen geeignet sind. Mitzubringen ist: Gute Laune und Lust am Nassfilzen\, ein Backblech\, Geschirrtuch\, Handtuch und eine Plastiktüte. Material wird von der Dozentin gestellt. Auf ein kreatives Gestalten freue ich mich\, Vesper / Trinken nicht vergessen.
URL;VALUE=URI:https://www.unser-ferienprogramm.de/leutkirch/veranstaltung.php?id=198523
SUMMARY:Filzenworkshop
DTSTART;TZID=Europe/Berlin:20260730T100000
END:VEVENT

END:VCALENDAR
