BEGIN:VCALENDAR
VERSION:2.0
PRODID:-//hacksw/handcal//NONSGML v1.0//EN
CALSCALE:GREGORIAN
BEGIN:VTIMEZONE
TZID:Europe/Berlin
X-LIC-LOCATION:Europe/Berlin
BEGIN:DAYLIGHT
TZOFFSETFROM:+0100
TZOFFSETTO:+0200
TZNAME:CEST
DTSTART:19700329T020000
RRULE:FREQ=YEARLY;BYDAY=-1SU;BYMONTH=3
END:DAYLIGHT
BEGIN:STANDARD
TZOFFSETFROM:+0200
TZOFFSETTO:+0100
TZNAME:CET
DTSTART:19701025T030000
RRULE:FREQ=YEARLY;BYDAY=-1SU;BYMONTH=10
END:STANDARD
END:VTIMEZONE
BEGIN:VEVENT
DTEND;TZID=Europe/Berlin:20260819T160000
UID:69eaa7592d40b
DTSTAMP:20260424T011225
LOCATION:Leutkirch
DESCRIPTION:Unter der professionellen theaterpädagogischen Leitung von Christian Netti entwickelst du dein eigenes Theaterstück. Vier Tage lang spielst du die Rolle deines Lebens. \r\n\r\nAm Samstag 15 Uhr bis 16 Uhr findet dann die große Aufführung statt. \r\nAlle sind herzlich eingeladen.\r\nWichtig: Dies ist ein mehrtägiges Angebot!\r\n
URL;VALUE=URI:https://www.unser-ferienprogramm.de/leutkirch/veranstaltung.php?id=194963
SUMMARY:Theaterworkshop
DTSTART;TZID=Europe/Berlin:20260819T100000
END:VEVENT


BEGIN:VEVENT
DTEND;TZID=Europe/Berlin:20260820T160000
UID:69eaa7592d43b1
DTSTAMP:20260424T011225
LOCATION:Leutkirch
DESCRIPTION:Unter der professionellen theaterpädagogischen Leitung von Christian Netti entwickelst du dein eigenes Theaterstück. Vier Tage lang spielst du die Rolle deines Lebens. \r\n\r\nAm Samstag 15 Uhr bis 16 Uhr findet dann die große Aufführung statt. \r\nAlle sind herzlich eingeladen.\r\nWichtig: Dies ist ein mehrtägiges Angebot!\r\n
URL;VALUE=URI:https://www.unser-ferienprogramm.de/leutkirch/veranstaltung.php?id=194963
SUMMARY:Theaterworkshop
DTSTART;TZID=Europe/Berlin:20260820T100000
END:VEVENT


BEGIN:VEVENT
DTEND;TZID=Europe/Berlin:20260821T160000
UID:69eaa7592d4482
DTSTAMP:20260424T011225
LOCATION:Leutkirch
DESCRIPTION:Unter der professionellen theaterpädagogischen Leitung von Christian Netti entwickelst du dein eigenes Theaterstück. Vier Tage lang spielst du die Rolle deines Lebens. \r\n\r\nAm Samstag 15 Uhr bis 16 Uhr findet dann die große Aufführung statt. \r\nAlle sind herzlich eingeladen.\r\nWichtig: Dies ist ein mehrtägiges Angebot!\r\n
URL;VALUE=URI:https://www.unser-ferienprogramm.de/leutkirch/veranstaltung.php?id=194963
SUMMARY:Theaterworkshop
DTSTART;TZID=Europe/Berlin:20260821T100000
END:VEVENT


BEGIN:VEVENT
DTEND;TZID=Europe/Berlin:20260822T160000
UID:69eaa7592d4523
DTSTAMP:20260424T011225
LOCATION:Leutkirch
DESCRIPTION:Unter der professionellen theaterpädagogischen Leitung von Christian Netti entwickelst du dein eigenes Theaterstück. Vier Tage lang spielst du die Rolle deines Lebens. \r\n\r\nAm Samstag 15 Uhr bis 16 Uhr findet dann die große Aufführung statt. \r\nAlle sind herzlich eingeladen.\r\nWichtig: Dies ist ein mehrtägiges Angebot!\r\n
URL;VALUE=URI:https://www.unser-ferienprogramm.de/leutkirch/veranstaltung.php?id=194963
SUMMARY:Theaterworkshop
DTSTART;TZID=Europe/Berlin:20260822T100000
END:VEVENT

END:VCALENDAR
