BEGIN:VCALENDAR
VERSION:2.0
PRODID:-//hacksw/handcal//NONSGML v1.0//EN
CALSCALE:GREGORIAN
BEGIN:VTIMEZONE
TZID:Europe/Berlin
X-LIC-LOCATION:Europe/Berlin
BEGIN:DAYLIGHT
TZOFFSETFROM:+0100
TZOFFSETTO:+0200
TZNAME:CEST
DTSTART:19700329T020000
RRULE:FREQ=YEARLY;BYDAY=-1SU;BYMONTH=3
END:DAYLIGHT
BEGIN:STANDARD
TZOFFSETFROM:+0200
TZOFFSETTO:+0100
TZNAME:CET
DTSTART:19701025T030000
RRULE:FREQ=YEARLY;BYDAY=-1SU;BYMONTH=10
END:STANDARD
END:VTIMEZONE
BEGIN:VEVENT
DTEND;TZID=Europe/Berlin:20260701T160000
UID:69e7648b6ab05
DTSTAMP:20260421T135035
LOCATION:Arpke
DESCRIPTION:Die Betreuung beginnt direkt im Anschluss an den Unterricht der jeweiligen LeNa-Schule\, die Ihr Kind besucht.\r\nBesucht Ihr Kind eine Schule\, die nicht nach dem LeNa-Konzept arbeitet\, kann es ebenfalls an diesen Angebot teilnehmen\, jedoch obliegt es Ihrer Verantwortung\, dass das Kind selbständig zur nächstgelegenen LeNa-Schule kommt.\r\nAbweichend von der grundsätzlichen Regelung und den AGB's gilt für diesen Tag lediglich eine Mindestteilnehmer*innenzahl von 3 Kindern je Standort.
URL;VALUE=URI:https://www.unser-ferienprogramm.de/lehrte/veranstaltung.php?id=291412
SUMMARY:Zeugnisausgabetag Arpke
DTSTART;TZID=Europe/Berlin:20260701T110000
END:VEVENT

END:VCALENDAR
